BEGIN:VCALENDAR
VERSION:2.0
PRODID:-//Kinsale Cultural and Heritage Society - ECPv6.15.20//NONSGML v1.0//EN
CALSCALE:GREGORIAN
METHOD:PUBLISH
X-ORIGINAL-URL:https://kinsaleculturalandheritagesociety.com
X-WR-CALDESC:Events for Kinsale Cultural and Heritage Society
REFRESH-INTERVAL;VALUE=DURATION:PT1H
X-Robots-Tag:noindex
X-PUBLISHED-TTL:PT1H
BEGIN:VTIMEZONE
TZID:Europe/Dublin
BEGIN:DAYLIGHT
TZOFFSETFROM:+0000
TZOFFSETTO:+0100
TZNAME:IST
DTSTART:20230326T010000
END:DAYLIGHT
BEGIN:STANDARD
TZOFFSETFROM:+0100
TZOFFSETTO:+0000
TZNAME:GMT
DTSTART:20231029T010000
END:STANDARD
BEGIN:DAYLIGHT
TZOFFSETFROM:+0000
TZOFFSETTO:+0100
TZNAME:IST
DTSTART:20240331T010000
END:DAYLIGHT
BEGIN:STANDARD
TZOFFSETFROM:+0100
TZOFFSETTO:+0000
TZNAME:GMT
DTSTART:20241027T010000
END:STANDARD
BEGIN:DAYLIGHT
TZOFFSETFROM:+0000
TZOFFSETTO:+0100
TZNAME:IST
DTSTART:20250330T010000
END:DAYLIGHT
BEGIN:STANDARD
TZOFFSETFROM:+0100
TZOFFSETTO:+0000
TZNAME:GMT
DTSTART:20251026T010000
END:STANDARD
BEGIN:DAYLIGHT
TZOFFSETFROM:+0000
TZOFFSETTO:+0100
TZNAME:IST
DTSTART:20260329T010000
END:DAYLIGHT
BEGIN:STANDARD
TZOFFSETFROM:+0100
TZOFFSETTO:+0000
TZNAME:GMT
DTSTART:20261025T010000
END:STANDARD
END:VTIMEZONE
BEGIN:VEVENT
DTSTART;TZID=Europe/Dublin:20250419T200000
DTEND;TZID=Europe/Dublin:20250419T200000
DTSTAMP:20260419T145019
CREATED:20250401T160348Z
LAST-MODIFIED:20250401T160607Z
UID:372-1745092800-1745092800@kinsaleculturalandheritagesociety.com
SUMMARY:Kinsale in Medieval Times
DESCRIPTION:Local historian Niall Stewart presents Kinsale in Medieval Times
URL:https://kinsaleculturalandheritagesociety.com/event/kinsale-in-medieval-times/
LOCATION:Temperance Hall\, Kinsale\, Co. Cork\, Ireland
CATEGORIES:Kinsale Cultural & Heritage Society,Lecture
END:VEVENT
BEGIN:VEVENT
DTSTART;TZID=Europe/Dublin:20250305T200000
DTEND;TZID=Europe/Dublin:20250305T213000
DTSTAMP:20260419T145019
CREATED:20250223T222959Z
LAST-MODIFIED:20250223T223751Z
UID:216-1741204800-1741210200@kinsaleculturalandheritagesociety.com
SUMMARY:‘Agallamh na Seanórach agus Cúige Mumhan’ by Dr Kevin Murray.
DESCRIPTION:Dr Murray is a senior lecturer in UCC’s Department of Early and Medieval Irish and currently head of its School of Irish \nLearning. In this talk\, he will examine the Munster connections of the longest text from the Fenian Cycle of tales. The \nsignificance of these Munster materials will be examined in the context of the overall narrative. This lecture will be as Gaeilge \n/ bilingual. \nThis lecture will be a live event at West Wing Room 5\, UCC \nTo link to register to attend online via Zoom will be made available closer to the date of this lecture.
URL:https://kinsaleculturalandheritagesociety.com/event/agallamh-na-seanorach-agus-cuige-mumhan-by-dr-kevin-murray/
LOCATION:West Wing Room 5\, UCC\, Ireland
CATEGORIES:Cork Historical & Archaeological Society,Lecture
END:VEVENT
BEGIN:VEVENT
DTSTART;TZID=Europe/Dublin:20250303T200000
DTEND;TZID=Europe/Dublin:20250303T203000
DTSTAMP:20260419T145019
CREATED:20250223T222741Z
LAST-MODIFIED:20250223T222741Z
UID:212-1741032000-1741033800@kinsaleculturalandheritagesociety.com
SUMMARY:'The history of Carriganass Castle' by Dan O'Sullivan
DESCRIPTION:The talk will include a discussion on the location\, the structure\, function\, and place in local imagination\, as well as \npreservation works and current status. The building will be put in the historical context of sixteenth and seventeenth \ncenturies and events such as the Desmond Rebellion\, the Nine Years War\, the Battle of Kinsale and the 1641 Rebellion. The \nlife of Donal Cam O’Sullivan Beare and his connection with the castle will be considered including the Retreat March to Leitrim \nand his exile to Spain.
URL:https://kinsaleculturalandheritagesociety.com/event/the-history-of-carriganass-castle-by-dan-osullivan/
LOCATION:Christian Fellowship Hall Bantry\, P75RW18
CATEGORIES:Bantry Historical & Archaeological Society,Lecture
END:VEVENT
BEGIN:VEVENT
DTSTART;TZID=Europe/Dublin:20250227T200000
DTEND;TZID=Europe/Dublin:20250227T213000
DTSTAMP:20260419T145019
CREATED:20250223T222041Z
LAST-MODIFIED:20250223T222041Z
UID:202-1740686400-1740691800@kinsaleculturalandheritagesociety.com
SUMMARY:Information and Misinformation\, War of Independence' by Seamus Coakley
DESCRIPTION:Seamus is currently writing a book on the Behagh Company and in his research he has uncovered local stories\, told and \nuntold\, which shine a new light on the lives of people in all strata of society in “Trouble Times.” \nAll welcome\, charge of €5.
URL:https://kinsaleculturalandheritagesociety.com/event/information-and-misinformation-war-of-independence-by-seamus-coakley/
LOCATION:GAA Pavilion Dunmanway
CATEGORIES:Dunmanway Historical Association,Lecture
END:VEVENT
BEGIN:VEVENT
DTSTART;TZID=Europe/Dublin:20241128T200000
DTEND;TZID=Europe/Dublin:20241128T200000
DTSTAMP:20260419T145019
CREATED:20241119T215648Z
LAST-MODIFIED:20241119T220001Z
UID:154-1732824000-1732824000@kinsaleculturalandheritagesociety.com
SUMMARY:Michael Collins\, The Big Fella
DESCRIPTION:Michael Collins features as the lecture theme for Kinsale Cultural and Heritage Society on Thursday November 28th in the Temperance Hall in Kinsale at 8pm. \nRevealing the many layers of the enigmatic Collins\, considered to be a colossus of twentieth century history\, is Mr Tim Crowley. \nConsidered to be one of the foremost historians on the life of the Clonakilty native\, Crowley has dedicated much of his life into delving into the story of a man\, who ultimately played a pivotal part in defeating an Empire. \nFrom his family farm at Sam’s Cross to his time spent in London\, Collins launches himself into Irish history following his release from Frongoch internment camp in December 1916. \nMaster minding not just the funding of the War of Independence\, he was of course central to the military campaign and most notably his involvement in the counter-intelligence war. \nA decisive character following the Anglo-Treaty of 1921\, Collin’s death in his own county in August 1922 was a tragic episode in a bitter Civil War. \nAnyone remotely interested in the tale of Collins should not miss what promises to be a fascinating lecture under the direction of Mr Crowley
URL:https://kinsaleculturalandheritagesociety.com/event/michael-collins-the-big-fella/
LOCATION:Temperance Hall\, Kinsale\, Co. Cork\, Ireland
CATEGORIES:Kinsale Cultural & Heritage Society,Lecture
ATTACH;FMTTYPE=image/jpeg:https://kinsaleculturalandheritagesociety.com/wp-content/uploads/2024/11/IMG-20241114-WA0003-e1732053543368.jpg
END:VEVENT
BEGIN:VEVENT
DTSTART;TZID=Europe/Dublin:20241106T203000
DTEND;TZID=Europe/Dublin:20241106T220000
DTSTAMP:20260419T145019
CREATED:20241029T170303Z
LAST-MODIFIED:20241029T170303Z
UID:125-1730925000-1730930400@kinsaleculturalandheritagesociety.com
SUMMARY:The Battle of Jutland
DESCRIPTION:Coppeen Archaeological Historical and Cultural Society presents: \n‘The Battle of Jutland’ by Tony McCarthy \nJune 1916: the largest Naval Battle of World War 1\, 250 ships\,100\,000 men\, with several West Cork casualties. \nNon-member €5 – Refreshments included.
URL:https://kinsaleculturalandheritagesociety.com/event/the-battle-of-jutland/
LOCATION:Caipín Bar\, Coppeen\, Ireland
CATEGORIES:Coppeen Archaeological Historical and Cultural Society,Lecture
END:VEVENT
BEGIN:VEVENT
DTSTART;TZID=Europe/Dublin:20241104T190000
DTEND;TZID=Europe/Dublin:20241104T190000
DTSTAMP:20260419T145019
CREATED:20241029T165831Z
LAST-MODIFIED:20241029T170025Z
UID:120-1730746800-1730746800@kinsaleculturalandheritagesociety.com
SUMMARY:A History of Irish Whiskey from the Midleton Archive
DESCRIPTION:Muskerry Local History Society presents ‘A History of Irish Whiskey from the Midleton Archive’ with Carol Quinn. \nNon-members: €4 per lecture
URL:https://kinsaleculturalandheritagesociety.com/event/a-history-of-irish-whiskey-from-the-midleton-archive/
LOCATION:Ballincollig Rugby Club\, Cork\, Ireland
CATEGORIES:Lecture,Muskerry Local History Society
END:VEVENT
BEGIN:VEVENT
DTSTART;TZID=Europe/Dublin:20241030T200000
DTEND;TZID=Europe/Dublin:20241030T200000
DTSTAMP:20260419T145019
CREATED:20241029T165543Z
LAST-MODIFIED:20241029T170347Z
UID:116-1730318400-1730318400@kinsaleculturalandheritagesociety.com
SUMMARY:The Margrave\, the Devil and the Irishman
DESCRIPTION:Cork Historical & Archaeological Society presents The margrave\, the devil and the Irishman\, a newly discovered medieval text concerning the Irish anchorite monk Johannes of Göttweig’ by Dr Diarmuid Ó Riain. \nDr Diarmuid Ó Riain is a postdoctoral researcher on the Digital Atlas of Early Irish Carved Stone project based in UCC’s \nDepartment of Archaeology. He taught medieval history in Vienna for several years and his core research focuses on \nmedieval interactions between Ireland and the Continent. He is co-editor of the recently published ‘Medieval Biographical \nCollections: Perspectives from Buddhist\, Christian and Islamic Worlds’ \n. \nTo register to attend this lecture online\, via Zoom\, click here.
URL:https://kinsaleculturalandheritagesociety.com/event/the-margrave-the-devil-and-the-irishman/
LOCATION:West Wing Room 6\, UCC\, University College Cork\, Cork\, Ireland
CATEGORIES:Cork Historical & Archaeological Society,Lecture
END:VEVENT
BEGIN:VEVENT
DTSTART;TZID=Europe/Dublin:20240425T203000
DTEND;TZID=Europe/Dublin:20240425T220000
DTSTAMP:20260419T145019
CREATED:20240421T223251Z
LAST-MODIFIED:20240421T223251Z
UID:98-1714077000-1714082400@kinsaleculturalandheritagesociety.com
SUMMARY:'Courtmacsherry RNLI: 200 years of saving lives at sea' by Micheál Hurley\, Jim Crowley and Diarmuid O'Mahony (Courtmacsherry RNLI) & 'A brief history of the Irish Coast Guard – 1822-2024' by Niall Ferns (Irish Coast Guard)
DESCRIPTION:To mark the bi-centenary of both the RNLI and the Irish Coast Guard\, our next event will feature the following joint lectures. \nThe RNLI was founded by Sir William Hillary in 1824. The Courtmacsherry RNLI Lifeboat Station along with the RNLI Lifeboat Station at Arklow were the first to be set up in Ireland in 1825. Micheál Hurley\, a crew member for 44 years\, will present the history of Courtmacsherry Lifeboat. He served in various roles over the years and still continues his involvement in various voluntary roles. He recently wrote the book ‘Home from the Sea: the Story of Courtmacsherry Lifeboat 1825-2023’. He will be assisted by Diarmuid O Mahony\, who has given 61 years of voluntary service to Courtmacsherry Lifeboat\, and Jim Crowley who served for decades as a Crewperson and Second Coxswain and is a noted historian on the RNLI and its involvement at Courtmacsherry. \nThe second talk\, presented by Niall Ferns\, will take us on a brief journey through the history of the Irish Coast Guard from the British Coastguard Act of 1822\, to our independence and the establishment of our Coast Life Saving Service in 1924. Niall has been a member of the Irish Coast Guard for 44 years having joined the Greystones Coast Guard unit in 1980 and served as a volunteer for 29 years\, 19 of which was as Officer in Charge. \nPlease note the starting time is 8.30pm. \nCover charge of €5.
URL:https://kinsaleculturalandheritagesociety.com/event/courtmacsherry-rnli-200-years-of-saving-lives-at-sea-by-micheal-hurley-jim-crowley-and-diarmuid-omahony-courtmacsherry-rnli-a-brief-history-of-the-irish-coast-guard-1822-2024/
LOCATION:GAA Pavilion Clonakilty\, Clonakilty\, County Cork\, Ireland
CATEGORIES:Dúchas Clonakilty Heritage,Lecture
END:VEVENT
BEGIN:VEVENT
DTSTART;TZID=Europe/Dublin:20240425T200000
DTEND;TZID=Europe/Dublin:20240425T200000
DTSTAMP:20260419T145019
CREATED:20240416T224102Z
LAST-MODIFIED:20240416T224125Z
UID:69-1714075200-1714075200@kinsaleculturalandheritagesociety.com
SUMMARY:The Gallipoli Campaign\, A Lost Opportunity of the Great War
DESCRIPTION:On Thursday next\, April 25th at 8pm\, Padraig Walsh presents a lecture on The Gallipoli Campaign at the Temperance Hall\, Kinsale. Hosted by Kinsale Cultural and Heritage Society\, Padraig is set to tell the story of another lost opportunity on the ancient hills of the Dardanelles in 1915 to put an end to the Great War and all its horror. Having always had a particular interest in this military campaign\, Padraig has also acquired a fantastic selection of photographs to go with the presentation\, Of course\, it should not be forgotten that many Irishmen were killed on the slopes of Gallipoli\, particularly the men of the Munster Fusiliers\, who were mown down as they disembarked from the transport ship The Clyde onto V beach.
URL:https://kinsaleculturalandheritagesociety.com/event/the-gallipoli-campaign-a-lost-opportunity-of-the-great-war/
LOCATION:Temperance Hall\, Kinsale\, Co. Cork\, Ireland
CATEGORIES:Kinsale Cultural & Heritage Society,Lecture
END:VEVENT
BEGIN:VEVENT
DTSTART;TZID=Europe/Dublin:20240422T200000
DTEND;TZID=Europe/Dublin:20240422T213000
DTSTAMP:20260419T145019
CREATED:20240421T222810Z
LAST-MODIFIED:20240421T222901Z
UID:94-1713816000-1713821400@kinsaleculturalandheritagesociety.com
SUMMARY:'Allmans of Bandon\, a century of distilling' with Tom Brennan
DESCRIPTION:Kilbrittain History Society Lecture \n\n\n\nOne of Bandon’s most iconic buildings – Allmans Bandon Distillery is located near Bandon Mart. Founded in the 1820s by James C. Allman\, it was converted from a cotton mill into a whiskey distillery. The presentation will explore the Allman’s Distillery story from the Overton Cotton Mill near the Bridewell tributary of the River Bandon\, up to the ending of distilling in 1925. \n\n\n\n\nFree to members. €5 non-members.
URL:https://kinsaleculturalandheritagesociety.com/event/allmans-of-bandon-a-century-of-distilling-with-tom-brennan/
LOCATION:Kilbrittan Parish Hall\, Kilbrittan\, County Cork\, Ireland
CATEGORIES:Kilbrittain History Society,Lecture
END:VEVENT
END:VCALENDAR