BEGIN:VCALENDAR
VERSION:2.0
PRODID:-//Kinsale Cultural and Heritage Society - ECPv6.15.20//NONSGML v1.0//EN
CALSCALE:GREGORIAN
METHOD:PUBLISH
X-ORIGINAL-URL:https://kinsaleculturalandheritagesociety.com
X-WR-CALDESC:Events for Kinsale Cultural and Heritage Society
REFRESH-INTERVAL;VALUE=DURATION:PT1H
X-Robots-Tag:noindex
X-PUBLISHED-TTL:PT1H
BEGIN:VTIMEZONE
TZID:Europe/Dublin
BEGIN:DAYLIGHT
TZOFFSETFROM:+0000
TZOFFSETTO:+0100
TZNAME:IST
DTSTART:20230326T010000
END:DAYLIGHT
BEGIN:STANDARD
TZOFFSETFROM:+0100
TZOFFSETTO:+0000
TZNAME:GMT
DTSTART:20231029T010000
END:STANDARD
BEGIN:DAYLIGHT
TZOFFSETFROM:+0000
TZOFFSETTO:+0100
TZNAME:IST
DTSTART:20240331T010000
END:DAYLIGHT
BEGIN:STANDARD
TZOFFSETFROM:+0100
TZOFFSETTO:+0000
TZNAME:GMT
DTSTART:20241027T010000
END:STANDARD
BEGIN:DAYLIGHT
TZOFFSETFROM:+0000
TZOFFSETTO:+0100
TZNAME:IST
DTSTART:20250330T010000
END:DAYLIGHT
BEGIN:STANDARD
TZOFFSETFROM:+0100
TZOFFSETTO:+0000
TZNAME:GMT
DTSTART:20251026T010000
END:STANDARD
END:VTIMEZONE
BEGIN:VEVENT
DTSTART;TZID=Europe/Dublin:20241030T200000
DTEND;TZID=Europe/Dublin:20241030T200000
DTSTAMP:20260421T144850
CREATED:20241029T165543Z
LAST-MODIFIED:20241029T170347Z
UID:116-1730318400-1730318400@kinsaleculturalandheritagesociety.com
SUMMARY:The Margrave\, the Devil and the Irishman
DESCRIPTION:Cork Historical & Archaeological Society presents The margrave\, the devil and the Irishman\, a newly discovered medieval text concerning the Irish anchorite monk Johannes of Göttweig’ by Dr Diarmuid Ó Riain. \nDr Diarmuid Ó Riain is a postdoctoral researcher on the Digital Atlas of Early Irish Carved Stone project based in UCC’s \nDepartment of Archaeology. He taught medieval history in Vienna for several years and his core research focuses on \nmedieval interactions between Ireland and the Continent. He is co-editor of the recently published ‘Medieval Biographical \nCollections: Perspectives from Buddhist\, Christian and Islamic Worlds’ \n. \nTo register to attend this lecture online\, via Zoom\, click here.
URL:https://kinsaleculturalandheritagesociety.com/event/the-margrave-the-devil-and-the-irishman/
LOCATION:West Wing Room 6\, UCC\, University College Cork\, Cork\, Ireland
CATEGORIES:Cork Historical & Archaeological Society,Lecture
END:VEVENT
BEGIN:VEVENT
DTSTART;TZID=Europe/Dublin:20240425T203000
DTEND;TZID=Europe/Dublin:20240425T220000
DTSTAMP:20260421T144850
CREATED:20240421T223251Z
LAST-MODIFIED:20240421T223251Z
UID:98-1714077000-1714082400@kinsaleculturalandheritagesociety.com
SUMMARY:'Courtmacsherry RNLI: 200 years of saving lives at sea' by Micheál Hurley\, Jim Crowley and Diarmuid O'Mahony (Courtmacsherry RNLI) & 'A brief history of the Irish Coast Guard – 1822-2024' by Niall Ferns (Irish Coast Guard)
DESCRIPTION:To mark the bi-centenary of both the RNLI and the Irish Coast Guard\, our next event will feature the following joint lectures. \nThe RNLI was founded by Sir William Hillary in 1824. The Courtmacsherry RNLI Lifeboat Station along with the RNLI Lifeboat Station at Arklow were the first to be set up in Ireland in 1825. Micheál Hurley\, a crew member for 44 years\, will present the history of Courtmacsherry Lifeboat. He served in various roles over the years and still continues his involvement in various voluntary roles. He recently wrote the book ‘Home from the Sea: the Story of Courtmacsherry Lifeboat 1825-2023’. He will be assisted by Diarmuid O Mahony\, who has given 61 years of voluntary service to Courtmacsherry Lifeboat\, and Jim Crowley who served for decades as a Crewperson and Second Coxswain and is a noted historian on the RNLI and its involvement at Courtmacsherry. \nThe second talk\, presented by Niall Ferns\, will take us on a brief journey through the history of the Irish Coast Guard from the British Coastguard Act of 1822\, to our independence and the establishment of our Coast Life Saving Service in 1924. Niall has been a member of the Irish Coast Guard for 44 years having joined the Greystones Coast Guard unit in 1980 and served as a volunteer for 29 years\, 19 of which was as Officer in Charge. \nPlease note the starting time is 8.30pm. \nCover charge of €5.
URL:https://kinsaleculturalandheritagesociety.com/event/courtmacsherry-rnli-200-years-of-saving-lives-at-sea-by-micheal-hurley-jim-crowley-and-diarmuid-omahony-courtmacsherry-rnli-a-brief-history-of-the-irish-coast-guard-1822-2024/
LOCATION:GAA Pavilion Clonakilty\, Clonakilty\, County Cork\, Ireland
CATEGORIES:Dúchas Clonakilty Heritage,Lecture
END:VEVENT
BEGIN:VEVENT
DTSTART;TZID=Europe/Dublin:20240425T200000
DTEND;TZID=Europe/Dublin:20240425T200000
DTSTAMP:20260421T144850
CREATED:20240416T224102Z
LAST-MODIFIED:20240416T224125Z
UID:69-1714075200-1714075200@kinsaleculturalandheritagesociety.com
SUMMARY:The Gallipoli Campaign\, A Lost Opportunity of the Great War
DESCRIPTION:On Thursday next\, April 25th at 8pm\, Padraig Walsh presents a lecture on The Gallipoli Campaign at the Temperance Hall\, Kinsale. Hosted by Kinsale Cultural and Heritage Society\, Padraig is set to tell the story of another lost opportunity on the ancient hills of the Dardanelles in 1915 to put an end to the Great War and all its horror. Having always had a particular interest in this military campaign\, Padraig has also acquired a fantastic selection of photographs to go with the presentation\, Of course\, it should not be forgotten that many Irishmen were killed on the slopes of Gallipoli\, particularly the men of the Munster Fusiliers\, who were mown down as they disembarked from the transport ship The Clyde onto V beach.
URL:https://kinsaleculturalandheritagesociety.com/event/the-gallipoli-campaign-a-lost-opportunity-of-the-great-war/
LOCATION:Temperance Hall\, Kinsale\, Co. Cork\, Ireland
CATEGORIES:Kinsale Cultural & Heritage Society,Lecture
END:VEVENT
BEGIN:VEVENT
DTSTART;TZID=Europe/Dublin:20240422T200000
DTEND;TZID=Europe/Dublin:20240422T213000
DTSTAMP:20260421T144850
CREATED:20240421T222810Z
LAST-MODIFIED:20240421T222901Z
UID:94-1713816000-1713821400@kinsaleculturalandheritagesociety.com
SUMMARY:'Allmans of Bandon\, a century of distilling' with Tom Brennan
DESCRIPTION:Kilbrittain History Society Lecture \n\n\n\nOne of Bandon’s most iconic buildings – Allmans Bandon Distillery is located near Bandon Mart. Founded in the 1820s by James C. Allman\, it was converted from a cotton mill into a whiskey distillery. The presentation will explore the Allman’s Distillery story from the Overton Cotton Mill near the Bridewell tributary of the River Bandon\, up to the ending of distilling in 1925. \n\n\n\n\nFree to members. €5 non-members.
URL:https://kinsaleculturalandheritagesociety.com/event/allmans-of-bandon-a-century-of-distilling-with-tom-brennan/
LOCATION:Kilbrittan Parish Hall\, Kilbrittan\, County Cork\, Ireland
CATEGORIES:Kilbrittain History Society,Lecture
END:VEVENT
END:VCALENDAR